BEGIN:VCALENDAR
VERSION:2.0
PRODID:-//ChamberMaster//Event Calendar 2.0//EN
METHOD:PUBLISH
X-PUBLISHED-TTL:P3D
REFRESH-INTERVAL:P3D
CALSCALE:GREGORIAN
BEGIN:VEVENT
DTSTART:20230303T133000Z
DTEND:20230303T143000Z
X-MICROSOFT-CDO-ALLDAYEVENT:FALSE
SUMMARY:First Friday Coffee/Drury University
DESCRIPTION:This monthly networking event is a great way to kick off the last day of the work week.  You will meet new people\, build professional relationships\, and catch up with long time business colleagues. \n\n\n\nDon't forget your business cards for networking and door prizes!
X-ALT-DESC;FMTTYPE=text/html:This monthly networking event is a great way to kick off the last day of the work week.&nbsp\; You will meet new people\, build professional relationships\, and catch up with long time business colleagues.&nbsp\;<br>\n<br>\nDon't forget your business cards for networking and door prizes!
LOCATION:Drury University 1034 S. Bishop Ave. Rolla
UID:e.1638.1677
SEQUENCE:3
DTSTAMP:20260420T072854Z
URL:http://rollachamber.chambermaster.com/events/details/first-friday-coffee-drury-university-1677
END:VEVENT

END:VCALENDAR
